BEGIN:VCALENDAR
VERSION:2.0
PRODID:SchoolNow
CALSCALE:GREGORIAN
BEGIN:VEVENT
UID:33ee0690-3bf1-11f0-8097-02166bab2149
DTSTAMP:20251216T154517Z
SUMMARY:Soccer Game
LOCATION:Gower
URL;VALUE=URI:https://www.dg58.org/on/calendar/8215807/soccer-game
DTSTART:20260430T211500Z
DTEND:20260430T231500Z
END:VEVENT
END:VCALENDAR
