BEGIN:VCALENDAR
VERSION:2.0
PRODID:SchoolNow
CALSCALE:GREGORIAN
BEGIN:VEVENT
UID:33ee04ce-3bf1-11f0-9c80-02166bab2149
DTSTAMP:20251216T154517Z
SUMMARY:Track Meet
LOCATION:TBD
URL;VALUE=URI:https://www.dg58.org/on/calendar/8215805/track-meet
DTSTART;VALUE=DATE:20260523
DTEND;VALUE=DATE:20260524
END:VEVENT
END:VCALENDAR
