BEGIN:VCALENDAR
VERSION:2.0
PRODID:SchoolNow
CALSCALE:GREGORIAN
BEGIN:VEVENT
UID:33ee03f2-3bf1-11f0-84fd-02166bab2149
DTSTAMP:20251216T154517Z
SUMMARY:Cross Country Conference Meet
LOCATION:Lisle
URL;VALUE=URI:https://www.dg58.org/on/calendar/8215804/cross-country-confer
 ence-meet
DTSTART:20251006T210000Z
DTEND:20251006T231500Z
END:VEVENT
END:VCALENDAR
