BEGIN:VCALENDAR
VERSION:2.0
PRODID:SchoolNow
CALSCALE:GREGORIAN
BEGIN:VEVENT
UID:33edff9c-3bf1-11f0-8ad7-02166bab2149
DTSTAMP:20251216T154517Z
SUMMARY:Girls Basketball Game
LOCATION:Butler
URL;VALUE=URI:https://www.dg58.org/on/calendar/8215799/girls-basketball-gam
 e
DTSTART:20251020T211500Z
DTEND:20251020T231500Z
END:VEVENT
END:VCALENDAR
