BEGIN:VCALENDAR
VERSION:2.0
PRODID:SchoolNow
CALSCALE:GREGORIAN
BEGIN:VEVENT
UID:33edfeb6-3bf1-11f0-8c76-02166bab2149
DTSTAMP:20251216T154517Z
SUMMARY:Boys Volleyball Game
LOCATION:Old Quarry
URL;VALUE=URI:https://www.dg58.org/on/calendar/8215798/boys-volleyball-game
DTSTART:20260506T211500Z
DTEND:20260506T221500Z
END:VEVENT
END:VCALENDAR
