BEGIN:VCALENDAR
VERSION:2.0
PRODID:SchoolNow
CALSCALE:GREGORIAN
BEGIN:VEVENT
UID:33edfdda-3bf1-11f0-89a5-02166bab2149
DTSTAMP:20251216T154517Z
SUMMARY:Boys Basketball Game
LOCATION:O'Neill
URL;VALUE=URI:https://www.dg58.org/on/calendar/8215797/boys-basketball-game
DTSTART:20251209T221500Z
DTEND:20251210T001500Z
END:VEVENT
END:VCALENDAR
