BEGIN:VCALENDAR
VERSION:2.0
PRODID:SchoolNow
CALSCALE:GREGORIAN
BEGIN:VEVENT
UID:33edfd08-3bf1-11f0-a116-02166bab2149
DTSTAMP:20251216T154517Z
SUMMARY:Wrestling Meet
LOCATION:O'Neill
URL;VALUE=URI:https://www.dg58.org/on/calendar/8215796/wrestling-meet
DTSTART:20251218T221500Z
DTEND:20251219T001500Z
END:VEVENT
END:VCALENDAR
