BEGIN:VCALENDAR
VERSION:2.0
PRODID:SchoolNow
CALSCALE:GREGORIAN
BEGIN:VEVENT
UID:33edfb46-3bf1-11f0-8182-02166bab2149
DTSTAMP:20251216T154517Z
SUMMARY:Track Meet
LOCATION:TBD
URL;VALUE=URI:https://www.dg58.org/on/calendar/8215794/track-meet
DTSTART;VALUE=DATE:20260516
DTEND;VALUE=DATE:20260517
END:VEVENT
END:VCALENDAR
