BEGIN:VCALENDAR
VERSION:2.0
PRODID:SchoolNow
CALSCALE:GREGORIAN
BEGIN:VEVENT
UID:33edfa6a-3bf1-11f0-badc-02166bab2149
DTSTAMP:20251216T154517Z
SUMMARY:Boys Volleyball Game
LOCATION:TBD
URL;VALUE=URI:https://www.dg58.org/on/calendar/8215793/boys-volleyball-game
DTSTART:20260512T211500Z
DTEND:20260512T221500Z
END:VEVENT
END:VCALENDAR
