BEGIN:VCALENDAR
VERSION:2.0
PRODID:SchoolNow
CALSCALE:GREGORIAN
BEGIN:VEVENT
UID:33edf8b2-3bf1-11f0-b181-02166bab2149
DTSTAMP:20251216T154517Z
SUMMARY:Chess Match
LOCATION:Cass
URL;VALUE=URI:https://www.dg58.org/on/calendar/8215791/chess-match
DTSTART:20260122T221500Z
DTEND:20260123T001500Z
END:VEVENT
END:VCALENDAR
