BEGIN:VCALENDAR
VERSION:2.0
PRODID:SchoolNow
CALSCALE:GREGORIAN
BEGIN:VEVENT
UID:33edf61e-3bf1-11f0-8f5d-02166bab2149
DTSTAMP:20251216T154517Z
SUMMARY:Soccer Game
LOCATION:Westview Hills
URL;VALUE=URI:https://www.dg58.org/on/calendar/8215788/soccer-game
DTSTART:20260416T211500Z
DTEND:20260416T231500Z
END:VEVENT
END:VCALENDAR
