BEGIN:VCALENDAR
VERSION:2.0
PRODID:SchoolNow
CALSCALE:GREGORIAN
BEGIN:VEVENT
UID:33edf470-3bf1-11f0-961b-02166bab2149
DTSTAMP:20251216T154517Z
SUMMARY:Boys Volleyball Game
LOCATION:Burr Ridge
URL;VALUE=URI:https://www.dg58.org/on/calendar/8215786/boys-volleyball-game
DTSTART:20260409T211500Z
DTEND:20260409T221500Z
END:VEVENT
END:VCALENDAR
