BEGIN:VCALENDAR
VERSION:2.0
PRODID:SchoolNow
CALSCALE:GREGORIAN
BEGIN:VEVENT
UID:33edf1c8-3bf1-11f0-97b3-02166bab2149
DTSTAMP:20251216T154517Z
SUMMARY:Girls Basketball Game
LOCATION:Lakeview
URL;VALUE=URI:https://www.dg58.org/on/calendar/8215783/girls-basketball-gam
 e
DTSTART:20251015T211500Z
DTEND:20251015T231500Z
END:VEVENT
END:VCALENDAR
