BEGIN:VCALENDAR
VERSION:2.0
PRODID:SchoolNow
CALSCALE:GREGORIAN
BEGIN:VEVENT
UID:33edf0e2-3bf1-11f0-af2a-02166bab2149
DTSTAMP:20251216T154517Z
SUMMARY:Wrestling Meet
LOCATION:Gower
URL;VALUE=URI:https://www.dg58.org/on/calendar/8215782/wrestling-meet
DTSTART:20260203T221500Z
DTEND:20260204T001500Z
END:VEVENT
END:VCALENDAR
