BEGIN:VCALENDAR
VERSION:2.0
PRODID:SchoolNow
CALSCALE:GREGORIAN
BEGIN:VEVENT
UID:33edeffc-3bf1-11f0-9c8e-02166bab2149
DTSTAMP:20251216T154517Z
SUMMARY:Boys Volleyball Game
LOCATION:O'Neill
URL;VALUE=URI:https://www.dg58.org/on/calendar/8215781/boys-volleyball-game
DTSTART:20260420T211500Z
DTEND:20260420T221500Z
END:VEVENT
END:VCALENDAR
