BEGIN:VCALENDAR
VERSION:2.0
PRODID:SchoolNow
CALSCALE:GREGORIAN
BEGIN:VEVENT
UID:33edee30-3bf1-11f0-b9a3-02166bab2149
DTSTAMP:20251216T154517Z
SUMMARY:Cross Country Meet
LOCATION:Lakeview
URL;VALUE=URI:https://www.dg58.org/on/calendar/8215779/cross-country-meet
DTSTART:20251002T211500Z
DTEND:20251002T231500Z
END:VEVENT
END:VCALENDAR
