BEGIN:VCALENDAR
VERSION:2.0
PRODID:SchoolNow
CALSCALE:GREGORIAN
BEGIN:VEVENT
UID:33eded40-3bf1-11f0-9f0d-02166bab2149
DTSTAMP:20251216T154517Z
SUMMARY:Boys Volleyball Game
LOCATION:Jefferson
URL;VALUE=URI:https://www.dg58.org/on/calendar/8215778/boys-volleyball-game
DTSTART:20260421T211500Z
DTEND:20260421T221500Z
END:VEVENT
END:VCALENDAR
