BEGIN:VCALENDAR
VERSION:2.0
PRODID:SchoolNow
CALSCALE:GREGORIAN
BEGIN:VEVENT
UID:33edec50-3bf1-11f0-a839-02166bab2149
DTSTAMP:20251216T154517Z
SUMMARY:Cross Country Meet
LOCATION:Old Quarry
URL;VALUE=URI:https://www.dg58.org/on/calendar/8215777/cross-country-meet
DTSTART:20250910T211500Z
DTEND:20250910T231500Z
END:VEVENT
END:VCALENDAR
