BEGIN:VCALENDAR
VERSION:2.0
PRODID:SchoolNow
CALSCALE:GREGORIAN
BEGIN:VEVENT
UID:33ede67e-3bf1-11f0-9a0e-02166bab2149
DTSTAMP:20251216T154517Z
SUMMARY:Boys Basketball Game
LOCATION:Jefferson
URL;VALUE=URI:https://www.dg58.org/on/calendar/8215772/boys-basketball-game
DTSTART:20260107T221500Z
DTEND:20260108T001500Z
END:VEVENT
END:VCALENDAR
