BEGIN:VCALENDAR
VERSION:2.0
PRODID:SchoolNow
CALSCALE:GREGORIAN
BEGIN:VEVENT
UID:33ede106-3bf1-11f0-923e-02166bab2149
DTSTAMP:20251216T154517Z
SUMMARY:Cross Country Meet
LOCATION:Westview Hills
URL;VALUE=URI:https://www.dg58.org/on/calendar/8215770/cross-country-meet
DTSTART:20250930T211500Z
DTEND:20250930T231500Z
END:VEVENT
END:VCALENDAR
