BEGIN:VCALENDAR
VERSION:2.0
PRODID:SchoolNow
CALSCALE:GREGORIAN
BEGIN:VEVENT
UID:33e0d0d8-3bf1-11f0-8749-02166bab2149
DTSTAMP:20251216T154517Z
SUMMARY:Chess Match
LOCATION:Herrick
URL;VALUE=URI:https://www.dg58.org/on/calendar/8215769/chess-match
DTSTART:20260211T221500Z
DTEND:20260212T001500Z
END:VEVENT
END:VCALENDAR
