BEGIN:VCALENDAR
VERSION:2.0
PRODID:SchoolNow
CALSCALE:GREGORIAN
BEGIN:VEVENT
UID:33e0cfe8-3bf1-11f0-9545-02166bab2149
DTSTAMP:20251216T154517Z
SUMMARY:Wrestling Meet
LOCATION:Westmont
URL;VALUE=URI:https://www.dg58.org/on/calendar/8215768/wrestling-meet
DTSTART:20260202T221500Z
DTEND:20260203T001500Z
END:VEVENT
END:VCALENDAR
