BEGIN:VCALENDAR
VERSION:2.0
PRODID:SchoolNow
CALSCALE:GREGORIAN
BEGIN:VEVENT
UID:33e0cef8-3bf1-11f0-8805-02166bab2149
DTSTAMP:20251216T154517Z
SUMMARY:Cross Country Meet
LOCATION:TBD
URL;VALUE=URI:https://www.dg58.org/on/calendar/8215767/cross-country-meet
DTSTART;VALUE=DATE:20251018
DTEND;VALUE=DATE:20251019
END:VEVENT
END:VCALENDAR
