BEGIN:VCALENDAR
VERSION:2.0
PRODID:SchoolNow
CALSCALE:GREGORIAN
BEGIN:VEVENT
UID:33e0ce12-3bf1-11f0-a68e-02166bab2149
DTSTAMP:20251216T154517Z
SUMMARY:Girls Basketball Game
LOCATION:TBD
URL;VALUE=URI:https://www.dg58.org/on/calendar/8215766/girls-basketball-gam
 e
DTSTART;VALUE=DATE:20251201
DTEND;VALUE=DATE:20251202
END:VEVENT
END:VCALENDAR
