BEGIN:VCALENDAR
VERSION:2.0
PRODID:SchoolNow
CALSCALE:GREGORIAN
BEGIN:VEVENT
UID:33e0cd18-3bf1-11f0-8d63-02166bab2149
DTSTAMP:20251216T154517Z
SUMMARY:Boys Basketball Game
LOCATION:O'Neill
URL;VALUE=URI:https://www.dg58.org/on/calendar/8215765/boys-basketball-game
DTSTART:20251217T221500Z
DTEND:20251218T001500Z
END:VEVENT
END:VCALENDAR
