BEGIN:VCALENDAR
VERSION:2.0
PRODID:SchoolNow
CALSCALE:GREGORIAN
BEGIN:VEVENT
UID:33e0cb2e-3bf1-11f0-ad81-02166bab2149
DTSTAMP:20251216T154517Z
SUMMARY:Girls Basketball Game
LOCATION:Eisenhower
URL;VALUE=URI:https://www.dg58.org/on/calendar/8215763/girls-basketball-gam
 e
DTSTART:20251110T221500Z
DTEND:20251111T001500Z
END:VEVENT
END:VCALENDAR
