BEGIN:VCALENDAR
VERSION:2.0
PRODID:SchoolNow
CALSCALE:GREGORIAN
BEGIN:VEVENT
UID:33e0c8e0-3bf1-11f0-b7f4-02166bab2149
DTSTAMP:20251216T154517Z
SUMMARY:Chess Match
LOCATION:Cass
URL;VALUE=URI:https://www.dg58.org/on/calendar/8215761/chess-match
DTSTART;VALUE=DATE:20260221
DTEND;VALUE=DATE:20260222
END:VEVENT
END:VCALENDAR
