BEGIN:VCALENDAR
VERSION:2.0
PRODID:SchoolNow
CALSCALE:GREGORIAN
BEGIN:VEVENT
UID:90726812-34c5-11f0-ada1-0a58a9feac02
DTSTAMP:20251216T154517Z
SUMMARY:Festival of Music @ DGS
URL;VALUE=URI:https://www.dg58.org/on/calendar/8163206/festival-of-music-dg
 s
DTSTART:20260220T010000Z
DTEND:20260220T023000Z
END:VEVENT
END:VCALENDAR
