BEGIN:VCALENDAR
VERSION:2.0
PRODID:SchoolNow
CALSCALE:GREGORIAN
BEGIN:VEVENT
UID:9072645c-34c5-11f0-85a3-0a58a9feac02
DTSTAMP:20251216T154517Z
SUMMARY:VIP Day
URL;VALUE=URI:https://www.dg58.org/on/calendar/8163205/vip-day
DTSTART:20251125T191500Z
DTEND:20251125T210000Z
END:VEVENT
END:VCALENDAR
