BEGIN:VCALENDAR
VERSION:2.0
PRODID:SchoolNow
CALSCALE:GREGORIAN
BEGIN:VEVENT
UID:c26bd70e-30c9-11f0-8aaf-0a58a9feac02
DTSTAMP:20251216T154518Z
SUMMARY:Jazz Band Rehearsal
LOCATION:Band Room
URL;VALUE=URI:https://www.dg58.org/on/calendar/8133269/jazz-band-rehearsal
DTSTART:20270114T130000Z
DTEND:20270114T134500Z
END:VEVENT
END:VCALENDAR
