BEGIN:VCALENDAR
VERSION:2.0
PRODID:SchoolNow
CALSCALE:GREGORIAN
BEGIN:VEVENT
UID:da748d7a-2f64-11f0-89bd-0a58a9feac02
DTSTAMP:20251216T154518Z
SUMMARY:Jazz Band Rehearsal
LOCATION:Band Room
URL;VALUE=URI:https://www.dg58.org/on/calendar/8120086/jazz-band-rehearsal
DTSTART:20270112T130000Z
DTEND:20270112T134500Z
END:VEVENT
END:VCALENDAR
