BEGIN:VCALENDAR
VERSION:2.0
PRODID:SchoolNow
CALSCALE:GREGORIAN
BEGIN:VEVENT
UID:0762b752-2b9c-11f0-aa98-0e9249403ba1
DTSTAMP:20251216T154518Z
SUMMARY:Jazz Band Rehearsal
LOCATION:Band Room
URL;VALUE=URI:https://www.dg58.org/on/calendar/8086501/jazz-band-rehearsal
DTSTART:20270107T130000Z
DTEND:20270107T134500Z
END:VEVENT
END:VCALENDAR
