BEGIN:VCALENDAR
VERSION:2.0
PRODID:SchoolNow
CALSCALE:GREGORIAN
BEGIN:VEVENT
UID:26209028-29d1-11f0-a1f5-0a58a9feac02
DTSTAMP:20251216T154517Z
SUMMARY:8th Grade Dance Classes
URL;VALUE=URI:https://www.dg58.org/on/calendar/8071944/8th-grade-dance-clas
 ses
DTSTART:20260221T010000Z
DTEND:20260221T023000Z
END:VEVENT
END:VCALENDAR
