BEGIN:VCALENDAR
VERSION:2.0
PRODID:SchoolNow
CALSCALE:GREGORIAN
BEGIN:VEVENT
UID:4d1b6cd4-26d4-11f0-8706-0a58a9feac02
DTSTAMP:20251216T154517Z
SUMMARY:Thanksgiving Break
URL;VALUE=URI:https://www.dg58.org/on/calendar/8048218/thanksgiving-break
DTSTART;VALUE=DATE:20251126
DTEND;VALUE=DATE:20251129
END:VEVENT
END:VCALENDAR
