BEGIN:VCALENDAR
VERSION:2.0
PRODID:SchoolNow
CALSCALE:GREGORIAN
BEGIN:VEVENT
UID:4d1b6996-26d4-11f0-9952-0a58a9feac02
DTSTAMP:20251216T154517Z
SUMMARY:Winter Break
URL;VALUE=URI:https://www.dg58.org/on/calendar/8048217/winter-break
DTSTART;VALUE=DATE:20251222
DTEND;VALUE=DATE:20260105
END:VEVENT
END:VCALENDAR
