BEGIN:VCALENDAR
VERSION:2.0
PRODID:SchoolNow
CALSCALE:GREGORIAN
BEGIN:VEVENT
UID:52011d44-26a1-11f0-bbe8-0a58a9feac02
DTSTAMP:20251216T154518Z
SUMMARY:Jazz Band Rehearsal
LOCATION:Band Room
URL;VALUE=URI:https://www.dg58.org/on/calendar/8046446/jazz-band-rehearsal
DTSTART:20261231T130000Z
DTEND:20261231T134500Z
END:VEVENT
END:VCALENDAR
