BEGIN:VCALENDAR
VERSION:2.0
PRODID:SchoolNow
CALSCALE:GREGORIAN
BEGIN:VEVENT
UID:86230d3e-21d9-11f0-b0f3-0a58a9feac02
DTSTAMP:20251216T154518Z
SUMMARY:Jazz Band Rehearsal
LOCATION:Band Room
URL;VALUE=URI:https://www.dg58.org/on/calendar/8005271/jazz-band-rehearsal
DTSTART:20261224T130000Z
DTEND:20261224T134500Z
END:VEVENT
END:VCALENDAR
