BEGIN:VCALENDAR
VERSION:2.0
PRODID:SchoolNow
CALSCALE:GREGORIAN
BEGIN:VEVENT
UID:940f15b0-20a7-11f0-a019-0a58a9feac02
DTSTAMP:20251216T154517Z
SUMMARY:Jazz Band Rehearsal
LOCATION:Band Room
URL;VALUE=URI:https://www.dg58.org/on/calendar/7994752/jazz-band-rehearsal
DTSTART:20261222T130000Z
DTEND:20261222T134500Z
END:VEVENT
END:VCALENDAR
