BEGIN:VCALENDAR
VERSION:2.0
PRODID:SchoolNow
CALSCALE:GREGORIAN
BEGIN:VEVENT
UID:ed2fd352-1a47-11f0-ba6d-0affc4b5d8e3
DTSTAMP:20251216T154517Z
SUMMARY:Jazz Band Rehearsal
LOCATION:Band Room
URL;VALUE=URI:https://www.dg58.org/on/calendar/7933943/jazz-band-rehearsal
DTSTART:20261215T130000Z
DTEND:20261215T134500Z
END:VEVENT
END:VCALENDAR
