BEGIN:VCALENDAR
VERSION:2.0
PRODID:SchoolNow
CALSCALE:GREGORIAN
BEGIN:VEVENT
UID:129ebd80-16e5-11f0-ab89-02aac6805a6f
DTSTAMP:20251216T154518Z
SUMMARY:Jazz Band Rehearsal
LOCATION:Band Room
URL;VALUE=URI:https://www.dg58.org/on/calendar/7901761/jazz-band-rehearsal
DTSTART:20261210T130000Z
DTEND:20261210T134500Z
END:VEVENT
END:VCALENDAR
