BEGIN:VCALENDAR
VERSION:2.0
PRODID:SchoolNow
CALSCALE:GREGORIAN
BEGIN:VEVENT
UID:351d166e-14b4-11f0-a740-0efd28eb9af7
DTSTAMP:20251216T154517Z
SUMMARY:Jazz Band Rehearsal
LOCATION:Band Room
URL;VALUE=URI:https://www.dg58.org/on/calendar/7880711/jazz-band-rehearsal
DTSTART:20261208T130000Z
DTEND:20261208T134500Z
END:VEVENT
END:VCALENDAR
