BEGIN:VCALENDAR
VERSION:2.0
PRODID:SchoolNow
CALSCALE:GREGORIAN
BEGIN:VEVENT
UID:35111cd8-14b4-11f0-a72a-0efd28eb9af7
DTSTAMP:20251216T154518Z
SUMMARY:Jazz Band Rehearsal
LOCATION:Band Room
URL;VALUE=URI:https://www.dg58.org/on/calendar/7880709/jazz-band-rehearsal
DTSTART:20261203T130000Z
DTEND:20261203T134500Z
END:VEVENT
END:VCALENDAR
