BEGIN:VCALENDAR
VERSION:2.0
PRODID:SchoolNow
CALSCALE:GREGORIAN
BEGIN:VEVENT
UID:bdab8f8a-0a58-11f0-b15a-0a58a9feac02
DTSTAMP:20251216T154517Z
SUMMARY:Jazz Band Rehearsal
LOCATION:Band Room
URL;VALUE=URI:https://www.dg58.org/on/calendar/7778372/jazz-band-rehearsal
DTSTART:20261124T130000Z
DTEND:20261124T134500Z
END:VEVENT
END:VCALENDAR
