BEGIN:VCALENDAR
VERSION:2.0
PRODID:SchoolNow
CALSCALE:GREGORIAN
BEGIN:VEVENT
UID:ff7d65da-0528-11f0-95d0-0affcc24ac11
DTSTAMP:20251216T154518Z
SUMMARY:Jazz Band Rehearsal
LOCATION:Band Room
URL;VALUE=URI:https://www.dg58.org/on/calendar/7726681/jazz-band-rehearsal
DTSTART:20261119T130000Z
DTEND:20261119T134500Z
END:VEVENT
END:VCALENDAR
