BEGIN:VCALENDAR
VERSION:2.0
PRODID:SchoolNow
CALSCALE:GREGORIAN
BEGIN:VEVENT
UID:01a6893a-035e-11f0-95a3-0a58a9feac02
DTSTAMP:20251216T154517Z
SUMMARY:Jazz Band Rehearsal
LOCATION:Band Room
URL;VALUE=URI:https://www.dg58.org/on/calendar/7707042/jazz-band-rehearsal
DTSTART:20261117T130000Z
DTEND:20261117T134500Z
END:VEVENT
END:VCALENDAR
