BEGIN:VCALENDAR
VERSION:2.0
PRODID:SchoolNow
CALSCALE:GREGORIAN
BEGIN:VEVENT
UID:2597cfac-0061-11f0-bd86-0ecb82bbf163
DTSTAMP:20251216T154518Z
SUMMARY:Jazz Band Rehearsal
LOCATION:Band Room
URL;VALUE=URI:https://www.dg58.org/on/calendar/7677469/jazz-band-rehearsal
DTSTART:20261112T130000Z
DTEND:20261112T134500Z
END:VEVENT
END:VCALENDAR
