BEGIN:VCALENDAR
VERSION:2.0
PRODID:SchoolNow
CALSCALE:GREGORIAN
BEGIN:VEVENT
UID:456afd98-fdca-11ef-9ca6-0ed92baa4d73
DTSTAMP:20251216T154517Z
SUMMARY:Jazz Band Rehearsal
LOCATION:Band Room
URL;VALUE=URI:https://www.dg58.org/on/calendar/7649629/jazz-band-rehearsal
DTSTART:20261110T130000Z
DTEND:20261110T134500Z
END:VEVENT
END:VCALENDAR
