BEGIN:VCALENDAR
VERSION:2.0
PRODID:SchoolNow
CALSCALE:GREGORIAN
BEGIN:VEVENT
UID:725599ba-fa34-11ef-b590-0ee84019fde3
DTSTAMP:20251216T154518Z
SUMMARY:National School Psychologist Week
URL;VALUE=URI:https://www.dg58.org/on/calendar/7612537/national-school-psyc
 hologist-week
DTSTART;VALUE=DATE:20261106
DTEND;VALUE=DATE:20261111
END:VEVENT
END:VCALENDAR
