BEGIN:VCALENDAR
VERSION:2.0
PRODID:SchoolNow
CALSCALE:GREGORIAN
BEGIN:VEVENT
UID:7ce77f16-fa01-11ef-ab16-023f926c3fed
DTSTAMP:20251216T154518Z
SUMMARY:Jazz Band Rehearsal
LOCATION:Band Room
URL;VALUE=URI:https://www.dg58.org/on/calendar/7610268/jazz-band-rehearsal
DTSTART:20261105T130000Z
DTEND:20261105T134500Z
END:VEVENT
END:VCALENDAR
