BEGIN:VCALENDAR
VERSION:2.0
PRODID:SchoolNow
CALSCALE:GREGORIAN
BEGIN:VEVENT
UID:917d6a84-f737-11ef-bf19-0affecdb03ef
DTSTAMP:20251216T154517Z
SUMMARY:Jazz Band Rehearsal
LOCATION:Band Room
URL;VALUE=URI:https://www.dg58.org/on/calendar/7582632/jazz-band-rehearsal
DTSTART:20261027T120000Z
DTEND:20261027T124500Z
END:VEVENT
END:VCALENDAR
